BEGIN:VCALENDAR
VERSION:2.0
PRODID:-//Arden Forest Infant School - ECPv6.7.0//NONSGML v1.0//EN
CALSCALE:GREGORIAN
METHOD:PUBLISH
X-WR-CALNAME:Arden Forest Infant School
X-ORIGINAL-URL:https://ardentest.markfeltwell.uk
X-WR-CALDESC:Events for Arden Forest Infant School
REFRESH-INTERVAL;VALUE=DURATION:PT1H
X-Robots-Tag:noindex
X-PUBLISHED-TTL:PT1H
BEGIN:VTIMEZONE
TZID:Europe/London
BEGIN:DAYLIGHT
TZOFFSETFROM:+0000
TZOFFSETTO:+0100
TZNAME:BST
DTSTART:20240331T010000
END:DAYLIGHT
BEGIN:STANDARD
TZOFFSETFROM:+0100
TZOFFSETTO:+0000
TZNAME:GMT
DTSTART:20241027T010000
END:STANDARD
END:VTIMEZONE
BEGIN:VEVENT
DTSTART;TZID=Europe/London:20240130T141500
DTEND;TZID=Europe/London:20240130T150000
DTSTAMP:20260419T213037
CREATED:20240127T164318Z
LAST-MODIFIED:20240127T164318Z
UID:4771-1706624100-1706626800@ardentest.markfeltwell.uk
SUMMARY:Year 2 - Learning showcase
DESCRIPTION:Information to follow
URL:https://ardentest.markfeltwell.uk/event/year-2-learning-showcase/
CATEGORIES:Year 2
END:VEVENT
END:VCALENDAR