BEGIN:VCALENDAR
VERSION:2.0
PRODID:-//Arden Forest Infant School - ECPv6.7.0//NONSGML v1.0//EN
CALSCALE:GREGORIAN
METHOD:PUBLISH
X-WR-CALNAME:Arden Forest Infant School
X-ORIGINAL-URL:https://ardentest.markfeltwell.uk
X-WR-CALDESC:Events for Arden Forest Infant School
REFRESH-INTERVAL;VALUE=DURATION:PT1H
X-Robots-Tag:noindex
X-PUBLISHED-TTL:PT1H
BEGIN:VTIMEZONE
TZID:Europe/London
BEGIN:DAYLIGHT
TZOFFSETFROM:+0000
TZOFFSETTO:+0100
TZNAME:BST
DTSTART:20240331T010000
END:DAYLIGHT
BEGIN:STANDARD
TZOFFSETFROM:+0100
TZOFFSETTO:+0000
TZNAME:GMT
DTSTART:20241027T010000
END:STANDARD
END:VTIMEZONE
BEGIN:VEVENT
DTSTART;VALUE=DATE:20240219
DTEND;VALUE=DATE:20240220
DTSTAMP:20260419T194804
CREATED:20240127T205630Z
LAST-MODIFIED:20240127T205630Z
UID:4786-1708300800-1708387199@ardentest.markfeltwell.uk
SUMMARY:Children return to school
DESCRIPTION:
URL:https://ardentest.markfeltwell.uk/event/children-return-to-school/
CATEGORIES:Term dates
END:VEVENT
BEGIN:VEVENT
DTSTART;VALUE=DATE:20240212
DTEND;VALUE=DATE:20240217
DTSTAMP:20260419T194804
CREATED:20240127T205600Z
LAST-MODIFIED:20240127T205639Z
UID:4784-1707696000-1708127999@ardentest.markfeltwell.uk
SUMMARY:Half term holiday
DESCRIPTION:
URL:https://ardentest.markfeltwell.uk/event/half-term-holiday/
CATEGORIES:School closed,Term dates
END:VEVENT
BEGIN:VEVENT
DTSTART;VALUE=DATE:20240209
DTEND;VALUE=DATE:20240210
DTSTAMP:20260419T194804
CREATED:20240127T165235Z
LAST-MODIFIED:20240127T165235Z
UID:4781-1707436800-1707523199@ardentest.markfeltwell.uk
SUMMARY:Last day of term
DESCRIPTION:
URL:https://ardentest.markfeltwell.uk/event/last-day-of-term/
CATEGORIES:Term dates
END:VEVENT
END:VCALENDAR