BEGIN:VCALENDAR
VERSION:2.0
PRODID:-//Arden Forest Infant School - ECPv6.7.0//NONSGML v1.0//EN
CALSCALE:GREGORIAN
METHOD:PUBLISH
X-ORIGINAL-URL:https://ardentest.markfeltwell.uk
X-WR-CALDESC:Events for Arden Forest Infant School
REFRESH-INTERVAL;VALUE=DURATION:PT1H
X-Robots-Tag:noindex
X-PUBLISHED-TTL:PT1H
BEGIN:VTIMEZONE
TZID:Europe/London
BEGIN:DAYLIGHT
TZOFFSETFROM:+0000
TZOFFSETTO:+0100
TZNAME:BST
DTSTART:20240331T010000
END:DAYLIGHT
BEGIN:STANDARD
TZOFFSETFROM:+0100
TZOFFSETTO:+0000
TZNAME:GMT
DTSTART:20241027T010000
END:STANDARD
END:VTIMEZONE
BEGIN:VEVENT
DTSTART;TZID=Europe/London:20240304T151500
DTEND;TZID=Europe/London:20240308T154500
DTSTAMP:20260423T113627
CREATED:20240127T210051Z
LAST-MODIFIED:20240127T210051Z
UID:4792-1709565300-1709912700@ardentest.markfeltwell.uk
SUMMARY:Book fair
DESCRIPTION:Information to follow
URL:https://ardentest.markfeltwell.uk/event/book-fair-2/
END:VEVENT
BEGIN:VEVENT
DTSTART;VALUE=DATE:20240307
DTEND;VALUE=DATE:20240308
DTSTAMP:20260423T113627
CREATED:20240127T205806Z
LAST-MODIFIED:20240127T205932Z
UID:4788-1709769600-1709855999@ardentest.markfeltwell.uk
SUMMARY:World book day
DESCRIPTION:Children to dress up \nInformation to follow.
URL:https://ardentest.markfeltwell.uk/event/book-fair/
END:VEVENT
END:VCALENDAR